BEGIN:VCALENDAR
VERSION:2.0
PRODID:-//Ludwigsfelder-FC e.V. - ECPv6.15.12.2//NONSGML v1.0//EN
CALSCALE:GREGORIAN
METHOD:PUBLISH
X-WR-CALNAME:Ludwigsfelder-FC e.V.
X-ORIGINAL-URL:https://ludwigsfelder-fc.de
X-WR-CALDESC:Veranstaltungen für Ludwigsfelder-FC e.V.
REFRESH-INTERVAL;VALUE=DURATION:PT1H
X-Robots-Tag:noindex
X-PUBLISHED-TTL:PT1H
BEGIN:VTIMEZONE
TZID:Europe/Berlin
BEGIN:DAYLIGHT
TZOFFSETFROM:+0100
TZOFFSETTO:+0200
TZNAME:CEST
DTSTART:20190331T010000
END:DAYLIGHT
BEGIN:STANDARD
TZOFFSETFROM:+0200
TZOFFSETTO:+0100
TZNAME:CET
DTSTART:20191027T010000
END:STANDARD
BEGIN:DAYLIGHT
TZOFFSETFROM:+0100
TZOFFSETTO:+0200
TZNAME:CEST
DTSTART:20200329T010000
END:DAYLIGHT
BEGIN:STANDARD
TZOFFSETFROM:+0200
TZOFFSETTO:+0100
TZNAME:CET
DTSTART:20201025T010000
END:STANDARD
BEGIN:DAYLIGHT
TZOFFSETFROM:+0100
TZOFFSETTO:+0200
TZNAME:CEST
DTSTART:20210328T010000
END:DAYLIGHT
BEGIN:STANDARD
TZOFFSETFROM:+0200
TZOFFSETTO:+0100
TZNAME:CET
DTSTART:20211031T010000
END:STANDARD
END:VTIMEZONE
BEGIN:VEVENT
DTSTART;TZID=Europe/Berlin:20201031T080000
DTEND;TZID=Europe/Berlin:20201031T133000
DTSTAMP:20260419T151257
CREATED:20201027T214901Z
LAST-MODIFIED:20201027T214901Z
UID:3138-1604131200-1604151000@ludwigsfelder-fc.de
SUMMARY:Busplanung D Juniorinnen
DESCRIPTION:1x Fiat PKW
URL:https://ludwigsfelder-fc.de/veranstaltungen/busplanung-d-juniorinnen-3/
CATEGORIES:D-Juniorinnen
END:VEVENT
BEGIN:VEVENT
DTSTART;TZID=Europe/Berlin:20201031T093000
DTEND;TZID=Europe/Berlin:20201031T153000
DTSTAMP:20260419T151257
CREATED:20201027T214336Z
LAST-MODIFIED:20201027T214336Z
UID:3136-1604136600-1604158200@ludwigsfelder-fc.de
SUMMARY:Busplanung B Jugend
DESCRIPTION:1x Daimler \n1x Opel
URL:https://ludwigsfelder-fc.de/veranstaltungen/busplanung-b-jugend-6/
CATEGORIES:B-Jugend
END:VEVENT
BEGIN:VEVENT
DTSTART;TZID=Europe/Berlin:20201031T100000
DTEND;TZID=Europe/Berlin:20201031T180000
DTSTAMP:20260419T151257
CREATED:20201027T214223Z
LAST-MODIFIED:20201027T214223Z
UID:3134-1604138400-1604167200@ludwigsfelder-fc.de
SUMMARY:Busplanung 1. Männer
DESCRIPTION:1x Daimler\n2x Nissan
URL:https://ludwigsfelder-fc.de/veranstaltungen/busplanung-1-maenner-7/
CATEGORIES:1. Männer
END:VEVENT
END:VCALENDAR